Package: SomaticSignatures Version: 2.45.1 Command: chmod a+r SomaticSignatures -R && F:\biocbuild\bbs-3.22-bioc\R\bin\R.exe CMD build --keep-empty-dirs --no-resave-data SomaticSignatures StartedAt: 2025-08-14 23:24:02 -0400 (Thu, 14 Aug 2025) EndedAt: 2025-08-14 23:27:53 -0400 (Thu, 14 Aug 2025) EllapsedTime: 230.6 seconds RetCode: 0 Status: OK PackageFile: SomaticSignatures_2.45.1.tar.gz PackageFileSize: 783.6 KiB