Package: SomaticSignatures Version: 2.45.1 Command: rm -rf SomaticSignatures.buildbin-libdir && mkdir SomaticSignatures.buildbin-libdir && F:\biocbuild\bbs-3.22-bioc\R\bin\R.exe CMD INSTALL --build --library=SomaticSignatures.buildbin-libdir SomaticSignatures_2.45.1.tar.gz StartedAt: 2025-08-15 11:22:16 -0400 (Fri, 15 Aug 2025) EndedAt: 2025-08-15 11:25:02 -0400 (Fri, 15 Aug 2025) EllapsedTime: 166.2 seconds RetCode: 0 Status: OK PackageFile: SomaticSignatures_2.45.1.zip PackageFileSize: 1.451 MiB