Package: SomaticSignatures Version: 2.47.0 Command: /home/biocbuild/bbs-3.23-bioc/R/bin/R CMD INSTALL SomaticSignatures StartedAt: 2025-11-04 15:44:22 -0500 (Tue, 04 Nov 2025) EndedAt: 2025-11-04 15:45:17 -0500 (Tue, 04 Nov 2025) EllapsedTime: 55.0 seconds RetCode: 0 Status: OK