Package: SomaticSignatures Version: 2.47.0 Command: /home/biocbuild/bbs-3.23-bioc/R/bin/R CMD build --keep-empty-dirs --no-resave-data SomaticSignatures StartedAt: 2025-11-04 20:04:17 -0500 (Tue, 04 Nov 2025) EndedAt: 2025-11-04 20:06:55 -0500 (Tue, 04 Nov 2025) EllapsedTime: 158.1 seconds RetCode: 0 Status: OK PackageFile: SomaticSignatures_2.47.0.tar.gz PackageFileSize: 2.182 MiB