Package: SmartPhos Version: 0.99.30 Command: /home/biocbuild/R/R/bin/R CMD INSTALL SmartPhos StartedAt: 2025-10-16 21:55:31 -0000 (Thu, 16 Oct 2025) EndedAt: 2025-10-16 21:56:13 -0000 (Thu, 16 Oct 2025) EllapsedTime: 41.8 seconds RetCode: 0 Status: OK