Package: SmartPhos Version: 0.99.30 Command: /home/biocbuild/bbs-3.22-bioc/R/bin/R CMD INSTALL SmartPhos StartedAt: 2025-10-19 15:37:26 -0400 (Sun, 19 Oct 2025) EndedAt: 2025-10-19 15:37:58 -0400 (Sun, 19 Oct 2025) EllapsedTime: 32.7 seconds RetCode: 0 Status: OK