Package: SmartPhos Version: 0.99.30 Command: /home/biocbuild/bbs-3.22-bioc/R/bin/R CMD check --install=check:SmartPhos.install-out.txt --library=/home/biocbuild/bbs-3.22-bioc/R/site-library --timings SmartPhos_0.99.30.tar.gz StartedAt: 2025-10-20 04:58:58 -0400 (Mon, 20 Oct 2025) EndedAt: 2025-10-20 05:05:02 -0400 (Mon, 20 Oct 2025) EllapsedTime: 364.3 seconds RetCode: 0 Status: OK CheckDir: SmartPhos.Rcheck Warnings: 0