Package: SmartPhos Version: 0.99.30 Command: /Library/Frameworks/R.framework/Resources/bin/R CMD INSTALL SmartPhos StartedAt: 2025-10-17 15:34:17 -0400 (Fri, 17 Oct 2025) EndedAt: 2025-10-17 15:35:03 -0400 (Fri, 17 Oct 2025) EllapsedTime: 46.3 seconds RetCode: 0 Status: OK