Package: SmartPhos Version: 0.99.30 Command: /Library/Frameworks/R.framework/Resources/bin/R CMD build --keep-empty-dirs --no-resave-data SmartPhos StartedAt: 2025-10-17 19:31:17 -0400 (Fri, 17 Oct 2025) EndedAt: 2025-10-17 19:33:38 -0400 (Fri, 17 Oct 2025) EllapsedTime: 140.6 seconds RetCode: 0 Status: OK PackageFile: SmartPhos_0.99.30.tar.gz PackageFileSize: 20.15 MiB