Package: SmartPhos Version: 0.99.30 Command: rm -rf SmartPhos.buildbin-libdir && mkdir SmartPhos.buildbin-libdir && /Users/biocbuild/BBS/utils/build-universal.sh SmartPhos_0.99.30.tar.gz /Library/Frameworks/R.framework/Resources/bin/R SmartPhos.buildbin-libdir StartedAt: 2025-10-18 03:23:36 -0400 (Sat, 18 Oct 2025) EndedAt: 2025-10-18 03:24:29 -0400 (Sat, 18 Oct 2025) EllapsedTime: 53.1 seconds RetCode: 0 Status: OK PackageFile: SmartPhos_0.99.30.tgz PackageFileSize: 13.3 MiB