Package: SmartPhos Version: 0.99.30 Maintainer: Shubham Agrawal MaintainerEmail: shubhamagrawal2706 at gmail.com git_url: https://git.bioconductor.org/packages/SmartPhos git_branch: devel git_last_commit: 38bf3de git_last_commit_date: 2025-10-01 09:40:06 -0400 (Wed, 01 Oct 2025)