Package: Site2Target Version: 1.3.0 Command: /home/biocbuild/bbs-3.23-bioc/R/bin/R CMD INSTALL Site2Target StartedAt: 2025-11-20 15:15:42 -0500 (Thu, 20 Nov 2025) EndedAt: 2025-11-20 15:15:44 -0500 (Thu, 20 Nov 2025) EllapsedTime: 2.1 seconds RetCode: 0 Status: OK