Package: Site2Target Version: 1.3.0 Command: /home/biocbuild/bbs-3.23-bioc/R/bin/R CMD build --keep-empty-dirs --no-resave-data Site2Target StartedAt: 2025-11-20 20:08:42 -0500 (Thu, 20 Nov 2025) EndedAt: 2025-11-20 20:09:12 -0500 (Thu, 20 Nov 2025) EllapsedTime: 30.0 seconds RetCode: 0 Status: OK PackageFile: Site2Target_1.3.0.tar.gz PackageFileSize: 441.7 KiB