Package: Site2Target Version: 1.1.0 Command: /Library/Frameworks/R.framework/Resources/bin/R CMD INSTALL Site2Target StartedAt: 2025-10-27 15:10:36 -0400 (Mon, 27 Oct 2025) EndedAt: 2025-10-27 15:10:38 -0400 (Mon, 27 Oct 2025) EllapsedTime: 1.3 seconds RetCode: 0 Status: OK