Package: Site2Target Version: 1.1.0 Command: /Library/Frameworks/R.framework/Resources/bin/R CMD build --keep-empty-dirs --no-resave-data Site2Target StartedAt: 2025-10-27 17:45:58 -0400 (Mon, 27 Oct 2025) EndedAt: 2025-10-27 17:46:12 -0400 (Mon, 27 Oct 2025) EllapsedTime: 13.2 seconds RetCode: 0 Status: OK PackageFile: Site2Target_1.1.0.tar.gz PackageFileSize: 441.7 KiB