Package: Site2Target Version: 1.1.0 Command: rm -rf Site2Target.buildbin-libdir && mkdir Site2Target.buildbin-libdir && /Users/biocbuild/BBS/utils/build-universal.sh Site2Target_1.1.0.tar.gz /Library/Frameworks/R.framework/Resources/bin/R Site2Target.buildbin-libdir StartedAt: 2025-10-27 23:19:50 -0400 (Mon, 27 Oct 2025) EndedAt: 2025-10-27 23:19:52 -0400 (Mon, 27 Oct 2025) EllapsedTime: 2.0 seconds RetCode: 0 Status: OK PackageFile: Site2Target_1.1.0.tgz PackageFileSize: 510.3 KiB