Package: SingleR Version: 2.11.3 Command: /home/biocbuild/bbs-3.22-bioc/R/bin/R CMD INSTALL SingleR StartedAt: 2025-10-03 15:17:35 -0400 (Fri, 03 Oct 2025) EndedAt: 2025-10-03 15:18:40 -0400 (Fri, 03 Oct 2025) EllapsedTime: 64.2 seconds RetCode: 0 Status: OK