Package: SingleR Version: 2.11.3 Command: /home/biocbuild/bbs-3.22-bioc/R/bin/R CMD build --keep-empty-dirs --no-resave-data --md5 SingleR StartedAt: 2025-10-03 20:05:54 -0400 (Fri, 03 Oct 2025) EndedAt: 2025-10-03 20:07:40 -0400 (Fri, 03 Oct 2025) EllapsedTime: 106.1 seconds RetCode: 0 Status: OK PackageFile: SingleR_2.11.3.tar.gz PackageFileSize: 679.8 KiB