Package: SingleR Version: 2.13.0 Command: /Library/Frameworks/R.framework/Resources/bin/R CMD INSTALL SingleR StartedAt: 2025-11-26 15:12:26 -0500 (Wed, 26 Nov 2025) EndedAt: 2025-11-26 15:12:46 -0500 (Wed, 26 Nov 2025) EllapsedTime: 19.8 seconds RetCode: 0 Status: OK