Package: SingleR Version: 2.13.0 Command: /Library/Frameworks/R.framework/Resources/bin/R CMD build --keep-empty-dirs --no-resave-data SingleR StartedAt: 2025-11-26 17:41:32 -0500 (Wed, 26 Nov 2025) EndedAt: 2025-11-26 17:42:16 -0500 (Wed, 26 Nov 2025) EllapsedTime: 43.6 seconds RetCode: 0 Status: OK PackageFile: SingleR_2.13.0.tar.gz PackageFileSize: 743.6 KiB