Package: SingleR Version: 2.13.0 Command: rm -rf SingleR.buildbin-libdir && mkdir SingleR.buildbin-libdir && /Users/biocbuild/BBS/utils/build-universal.sh SingleR_2.13.0.tar.gz /Library/Frameworks/R.framework/Resources/bin/R SingleR.buildbin-libdir StartedAt: 2025-11-25 23:53:29 -0500 (Tue, 25 Nov 2025) EndedAt: 2025-11-25 23:53:55 -0500 (Tue, 25 Nov 2025) EllapsedTime: 25.6 seconds RetCode: 0 Status: OK PackageFile: SingleR_2.13.0.tgz PackageFileSize: 972.8 KiB