Package: SingleMoleculeFootprinting Version: 2.5.0 Command: /home/biocbuild/bbs-3.23-bioc/R/bin/R CMD INSTALL SingleMoleculeFootprinting StartedAt: 2025-11-20 15:59:38 -0500 (Thu, 20 Nov 2025) EndedAt: 2025-11-20 15:59:56 -0500 (Thu, 20 Nov 2025) EllapsedTime: 17.2 seconds RetCode: 1 Status: ERROR