############################################################################## ############################################################################## ### ### Running command: ### ### /home/biocbuild/bbs-3.23-bioc/R/bin/R CMD INSTALL SingleMoleculeFootprinting ### ############################################################################## ############################################################################## * installing to library ‘/home/biocbuild/bbs-3.23-bioc/R/site-library’ * installing *source* package ‘SingleMoleculeFootprinting’ ... ** this is package ‘SingleMoleculeFootprinting’ version ‘2.5.0’ ** using staged installation ** R ** inst ** byte-compile and prepare package for lazy loading Error: object ‘filter’ is not exported by 'namespace:plyranges' Execution halted ERROR: lazy loading failed for package ‘SingleMoleculeFootprinting’ * removing ‘/home/biocbuild/bbs-3.23-bioc/R/site-library/SingleMoleculeFootprinting’ * restoring previous ‘/home/biocbuild/bbs-3.23-bioc/R/site-library/SingleMoleculeFootprinting’