Package: SingleMoleculeFootprinting Version: 2.5.0 Command: /home/biocbuild/bbs-3.23-bioc/R/bin/R CMD build --keep-empty-dirs --no-resave-data SingleMoleculeFootprinting StartedAt: 2025-11-20 20:08:00 -0500 (Thu, 20 Nov 2025) EndedAt: 2025-11-20 20:08:17 -0500 (Thu, 20 Nov 2025) EllapsedTime: 17.0 seconds RetCode: 1 Status: ERROR PackageFile: None PackageFileSize: NA