Package: SingleMoleculeFootprinting Version: 2.3.2 Command: /Library/Frameworks/R.framework/Resources/bin/R CMD INSTALL SingleMoleculeFootprinting StartedAt: 2025-10-27 15:47:42 -0400 (Mon, 27 Oct 2025) EndedAt: 2025-10-27 15:48:50 -0400 (Mon, 27 Oct 2025) EllapsedTime: 68.2 seconds RetCode: 0 Status: OK