Package: SingleMoleculeFootprinting Version: 2.3.2 Command: /Library/Frameworks/R.framework/Resources/bin/R CMD build --keep-empty-dirs --no-resave-data SingleMoleculeFootprinting StartedAt: 2025-10-28 18:46:55 -0400 (Tue, 28 Oct 2025) EndedAt: 2025-10-28 18:50:10 -0400 (Tue, 28 Oct 2025) EllapsedTime: 195.1 seconds RetCode: 0 Status: OK PackageFile: SingleMoleculeFootprinting_2.3.2.tar.gz PackageFileSize: 4.185 MiB