Package: SingleMoleculeFootprinting Version: 2.3.2 Command: /Library/Frameworks/R.framework/Resources/bin/R CMD INSTALL SingleMoleculeFootprinting StartedAt: 2025-10-08 15:36:13 -0400 (Wed, 08 Oct 2025) EndedAt: 2025-10-08 15:36:34 -0400 (Wed, 08 Oct 2025) EllapsedTime: 20.8 seconds RetCode: 0 Status: OK