Package: SingleMoleculeFootprinting Version: 2.3.2 Command: /Library/Frameworks/R.framework/Resources/bin/R CMD build --keep-empty-dirs --no-resave-data SingleMoleculeFootprinting StartedAt: 2025-10-08 17:51:37 -0400 (Wed, 08 Oct 2025) EndedAt: 2025-10-08 17:52:58 -0400 (Wed, 08 Oct 2025) EllapsedTime: 81.0 seconds RetCode: 0 Status: OK PackageFile: SingleMoleculeFootprinting_2.3.2.tar.gz PackageFileSize: 4.187 MiB