Package: SingleMoleculeFootprinting Version: 2.3.2 Command: rm -rf SingleMoleculeFootprinting.buildbin-libdir && mkdir SingleMoleculeFootprinting.buildbin-libdir && /Users/biocbuild/BBS/utils/build-universal.sh SingleMoleculeFootprinting_2.3.2.tar.gz /Library/Frameworks/R.framework/Resources/bin/R SingleMoleculeFootprinting.buildbin-libdir StartedAt: 2025-10-09 22:57:48 -0400 (Thu, 09 Oct 2025) EndedAt: 2025-10-09 22:58:11 -0400 (Thu, 09 Oct 2025) EllapsedTime: 22.5 seconds RetCode: 0 Status: OK PackageFile: SingleMoleculeFootprinting_2.3.2.tgz PackageFileSize: 4.39 MiB