Package: SingleCellSignalR Version: 2.1.0 Command: /home/biocbuild/bbs-3.23-bioc/R/bin/R CMD INSTALL SingleCellSignalR StartedAt: 2025-10-31 16:14:39 -0400 (Fri, 31 Oct 2025) EndedAt: 2025-10-31 16:15:27 -0400 (Fri, 31 Oct 2025) EllapsedTime: 47.9 seconds RetCode: 0 Status: OK