Package: SingleCellSignalR Version: 2.1.0 Command: /home/biocbuild/bbs-3.23-bioc/R/bin/R CMD check --install=check:SingleCellSignalR.install-out.txt --library=/home/biocbuild/bbs-3.23-bioc/R/site-library --timings SingleCellSignalR_2.1.0.tar.gz StartedAt: 2025-11-07 03:47:37 -0500 (Fri, 07 Nov 2025) EndedAt: 2025-11-07 03:53:36 -0500 (Fri, 07 Nov 2025) EllapsedTime: 358.4 seconds RetCode: 0 Status: WARNINGS CheckDir: SingleCellSignalR.Rcheck Warnings: 1