Package: SingleCellSignalR Version: 2.1.0 Command: /home/biocbuild/bbs-3.23-bioc/R/bin/R CMD build --keep-empty-dirs --no-resave-data SingleCellSignalR StartedAt: 2025-11-03 19:57:56 -0500 (Mon, 03 Nov 2025) EndedAt: 2025-11-03 19:59:05 -0500 (Mon, 03 Nov 2025) EllapsedTime: 69.1 seconds RetCode: 0 Status: OK PackageFile: SingleCellSignalR_2.1.0.tar.gz PackageFileSize: 173.8 KiB