Package: SingleCellExperiment Version: 1.31.1 Command: /home/biocbuild/bbs-3.22-bioc/R/bin/R CMD check --install=check:SingleCellExperiment.install-out.txt --library=/home/biocbuild/bbs-3.22-bioc/R/site-library --timings SingleCellExperiment_1.31.1.tar.gz StartedAt: 2025-10-25 04:14:23 -0400 (Sat, 25 Oct 2025) EndedAt: 2025-10-25 04:18:52 -0400 (Sat, 25 Oct 2025) EllapsedTime: 269.3 seconds RetCode: 0 Status: OK CheckDir: SingleCellExperiment.Rcheck Warnings: 0