Package: SingleCellExperiment Version: 1.31.1 Command: /Library/Frameworks/R.framework/Resources/bin/R CMD INSTALL SingleCellExperiment StartedAt: 2025-10-14 15:20:03 -0400 (Tue, 14 Oct 2025) EndedAt: 2025-10-14 15:20:39 -0400 (Tue, 14 Oct 2025) EllapsedTime: 36.7 seconds RetCode: 0 Status: OK