Package: SingleCellExperiment Version: 1.31.1 Command: /Library/Frameworks/R.framework/Resources/bin/R CMD build --keep-empty-dirs --no-resave-data SingleCellExperiment StartedAt: 2025-10-14 19:22:05 -0400 (Tue, 14 Oct 2025) EndedAt: 2025-10-14 19:23:35 -0400 (Tue, 14 Oct 2025) EllapsedTime: 90.0 seconds RetCode: 0 Status: OK PackageFile: SingleCellExperiment_1.31.1.tar.gz PackageFileSize: 962.2 KiB