Package: SingleCellExperiment Version: 1.31.1 Command: rm -rf SingleCellExperiment.buildbin-libdir && mkdir SingleCellExperiment.buildbin-libdir && /Users/biocbuild/BBS/utils/build-universal.sh SingleCellExperiment_1.31.1.tar.gz /Library/Frameworks/R.framework/Resources/bin/R SingleCellExperiment.buildbin-libdir StartedAt: 2025-10-14 03:09:21 -0400 (Tue, 14 Oct 2025) EndedAt: 2025-10-14 03:10:02 -0400 (Tue, 14 Oct 2025) EllapsedTime: 40.4 seconds RetCode: 0 Status: OK PackageFile: SingleCellExperiment_1.31.1.tgz PackageFileSize: 1.918 MiB