Package: SingleCellAlleleExperiment Version: 1.5.1 Command: /home/biocbuild/R/R/bin/R CMD INSTALL SingleCellAlleleExperiment StartedAt: 2025-10-13 20:54:51 -0000 (Mon, 13 Oct 2025) EndedAt: 2025-10-13 20:55:22 -0000 (Mon, 13 Oct 2025) EllapsedTime: 31.1 seconds RetCode: 0 Status: OK