Package: SingleCellAlleleExperiment Version: 1.5.1 Command: /home/biocbuild/bbs-3.22-bioc/R/bin/R CMD check --install=check:SingleCellAlleleExperiment.install-out.txt --library=/home/biocbuild/bbs-3.22-bioc/R/site-library --timings SingleCellAlleleExperiment_1.5.1.tar.gz StartedAt: 2025-10-17 05:56:06 -0400 (Fri, 17 Oct 2025) EndedAt: 2025-10-17 06:11:08 -0400 (Fri, 17 Oct 2025) EllapsedTime: 901.7 seconds RetCode: 0 Status: OK CheckDir: SingleCellAlleleExperiment.Rcheck Warnings: 0