Package: SingleCellAlleleExperiment Version: 1.7.0 Command: /home/biocbuild/bbs-3.23-bioc/R/bin/R CMD INSTALL SingleCellAlleleExperiment StartedAt: 2025-11-05 15:26:10 -0500 (Wed, 05 Nov 2025) EndedAt: 2025-11-05 15:26:34 -0500 (Wed, 05 Nov 2025) EllapsedTime: 24.1 seconds RetCode: 0 Status: OK