Package: SingleCellAlleleExperiment Version: 1.7.0 Command: /home/biocbuild/bbs-3.23-bioc/R/bin/R CMD build --keep-empty-dirs --no-resave-data SingleCellAlleleExperiment StartedAt: 2025-11-05 20:07:20 -0500 (Wed, 05 Nov 2025) EndedAt: 2025-11-05 20:13:44 -0500 (Wed, 05 Nov 2025) EllapsedTime: 384.4 seconds RetCode: 0 Status: OK PackageFile: SingleCellAlleleExperiment_1.7.0.tar.gz PackageFileSize: 2.319 MiB