Package: SingleCellAlleleExperiment Version: 1.5.1 Maintainer: Jonas Schuck MaintainerEmail: jschuckdev at gmail.com git_url: https://git.bioconductor.org/packages/SingleCellAlleleExperiment git_branch: devel git_last_commit: 51fab37 git_last_commit_date: 2025-09-03 05:37:02 -0400 (Wed, 03 Sep 2025)