Package: SimFFPE Version: 1.21.0 Command: /home/biocbuild/R/R/bin/R CMD INSTALL SimFFPE StartedAt: 2025-10-16 21:28:50 -0000 (Thu, 16 Oct 2025) EndedAt: 2025-10-16 21:29:07 -0000 (Thu, 16 Oct 2025) EllapsedTime: 17.6 seconds RetCode: 0 Status: OK