Package: SimFFPE Version: 1.21.0 Command: /home/biocbuild/R/R/bin/R CMD build --keep-empty-dirs --no-resave-data SimFFPE StartedAt: 2025-10-17 04:39:23 -0000 (Fri, 17 Oct 2025) EndedAt: 2025-10-17 04:41:41 -0000 (Fri, 17 Oct 2025) EllapsedTime: 138.1 seconds RetCode: 0 Status: OK PackageFile: SimFFPE_1.21.0.tar.gz PackageFileSize: 740.9 KiB