Package: SimFFPE Version: 1.21.0 Command: /home/biocbuild/bbs-3.22-bioc/R/bin/R CMD check --install=check:SimFFPE.install-out.txt --library=/home/biocbuild/bbs-3.22-bioc/R/site-library --timings SimFFPE_1.21.0.tar.gz StartedAt: 2025-10-10 04:22:18 -0400 (Fri, 10 Oct 2025) EndedAt: 2025-10-10 04:27:49 -0400 (Fri, 10 Oct 2025) EllapsedTime: 330.2 seconds RetCode: 0 Status: OK CheckDir: SimFFPE.Rcheck Warnings: 0