Package: SimFFPE Version: 1.23.0 Command: /home/biocbuild/bbs-3.23-bioc/R/bin/R CMD INSTALL SimFFPE StartedAt: 2025-11-04 15:14:52 -0500 (Tue, 04 Nov 2025) EndedAt: 2025-11-04 15:15:06 -0500 (Tue, 04 Nov 2025) EllapsedTime: 13.2 seconds RetCode: 0 Status: OK