Package: SimFFPE Version: 1.23.0 Command: /home/biocbuild/bbs-3.23-bioc/R/bin/R CMD build --keep-empty-dirs --no-resave-data SimFFPE StartedAt: 2025-11-04 19:59:14 -0500 (Tue, 04 Nov 2025) EndedAt: 2025-11-04 20:00:52 -0500 (Tue, 04 Nov 2025) EllapsedTime: 98.1 seconds RetCode: 0 Status: OK PackageFile: SimFFPE_1.23.0.tar.gz PackageFileSize: 749.3 KiB