Package: SimBu Version: 1.11.0 Command: /home/biocbuild/R/R/bin/R CMD build --keep-empty-dirs --no-resave-data SimBu StartedAt: 2025-10-21 03:11:10 -0000 (Tue, 21 Oct 2025) EndedAt: 2025-10-21 03:12:03 -0000 (Tue, 21 Oct 2025) EllapsedTime: 53.0 seconds RetCode: 0 Status: OK PackageFile: SimBu_1.11.0.tar.gz PackageFileSize: 136.7 KiB