Package: SimBu Version: 1.11.0 Command: /home/biocbuild/bbs-3.22-bioc/R/bin/R CMD check --install=check:SimBu.install-out.txt --library=/home/biocbuild/bbs-3.22-bioc/R/site-library --timings SimBu_1.11.0.tar.gz StartedAt: 2025-10-21 04:44:51 -0400 (Tue, 21 Oct 2025) EndedAt: 2025-10-21 04:48:18 -0400 (Tue, 21 Oct 2025) EllapsedTime: 207.2 seconds RetCode: 0 Status: OK CheckDir: SimBu.Rcheck Warnings: 0