Package: SimBu Version: 1.13.0 Command: /home/biocbuild/bbs-3.23-bioc/R/bin/R CMD build --keep-empty-dirs --no-resave-data SimBu StartedAt: 2025-11-05 20:05:46 -0500 (Wed, 05 Nov 2025) EndedAt: 2025-11-05 20:06:28 -0500 (Wed, 05 Nov 2025) EllapsedTime: 42.0 seconds RetCode: 0 Status: OK PackageFile: SimBu_1.13.0.tar.gz PackageFileSize: 216.2 KiB