Package: SigsPack Version: 1.25.0 Command: /home/biocbuild/bbs-3.23-bioc/R/bin/R CMD INSTALL SigsPack StartedAt: 2025-10-31 15:56:23 -0400 (Fri, 31 Oct 2025) EndedAt: 2025-10-31 15:56:25 -0400 (Fri, 31 Oct 2025) EllapsedTime: 2.2 seconds RetCode: 0 Status: OK